BEGIN:VCALENDAR
VERSION:2.0
PRODID:-//Willo-Hill Baptist Church - ECPv6.11.0.1//NONSGML v1.0//EN
CALSCALE:GREGORIAN
METHOD:PUBLISH
X-WR-CALNAME:Willo-Hill Baptist Church
X-ORIGINAL-URL:https://willohill.com
X-WR-CALDESC:Events for Willo-Hill Baptist Church
REFRESH-INTERVAL;VALUE=DURATION:PT1H
X-Robots-Tag:noindex
X-PUBLISHED-TTL:PT1H
BEGIN:VTIMEZONE
TZID:America/New_York
BEGIN:DAYLIGHT
TZOFFSETFROM:-0500
TZOFFSETTO:-0400
TZNAME:EDT
DTSTART:20280312T070000
END:DAYLIGHT
BEGIN:STANDARD
TZOFFSETFROM:-0400
TZOFFSETTO:-0500
TZNAME:EST
DTSTART:20281105T060000
END:STANDARD
END:VTIMEZONE
BEGIN:VEVENT
DTSTART;TZID=America/New_York:20280102T180000
DTEND;TZID=America/New_York:20280102T210000
DTSTAMP:20260419T151255
CREATED:20240820T192932Z
LAST-MODIFIED:20240820T192938Z
UID:10000183-1830448800-1830459600@willohill.com
SUMMARY:Young Adults Meeting Night
DESCRIPTION:Interested in joining? Use Remind Code: **2B3364H**
URL:https://willohill.com/event/young-adults-meeting-night/2028-01-02/
LOCATION:Various locations
END:VEVENT
BEGIN:VEVENT
DTSTART;TZID=America/New_York:20280108T090000
DTEND;TZID=America/New_York:20280108T110000
DTSTAMP:20260419T151255
CREATED:20240820T214757Z
LAST-MODIFIED:20240820T214806Z
UID:10001413-1830934800-1830942000@willohill.com
SUMMARY:Men's Breakfast
DESCRIPTION:Questions: Dave Hudec
URL:https://willohill.com/event/mens-breakfast/2028-01-08/
END:VEVENT
BEGIN:VEVENT
DTSTART;TZID=America/New_York:20280109T180000
DTEND;TZID=America/New_York:20280109T210000
DTSTAMP:20260419T151256
CREATED:20240820T192932Z
LAST-MODIFIED:20240820T192938Z
UID:10000184-1831053600-1831064400@willohill.com
SUMMARY:Young Adults Meeting Night
DESCRIPTION:Interested in joining? Use Remind Code: **2B3364H**
URL:https://willohill.com/event/young-adults-meeting-night/2028-01-09/
LOCATION:Various locations
END:VEVENT
BEGIN:VEVENT
DTSTART;TZID=America/New_York:20280116T180000
DTEND;TZID=America/New_York:20280116T210000
DTSTAMP:20260419T151256
CREATED:20240820T192932Z
LAST-MODIFIED:20240820T192938Z
UID:10000185-1831658400-1831669200@willohill.com
SUMMARY:Young Adults Meeting Night
DESCRIPTION:Interested in joining? Use Remind Code: **2B3364H**
URL:https://willohill.com/event/young-adults-meeting-night/2028-01-16/
LOCATION:Various locations
END:VEVENT
BEGIN:VEVENT
DTSTART;TZID=America/New_York:20280123T180000
DTEND;TZID=America/New_York:20280123T210000
DTSTAMP:20260419T151256
CREATED:20240820T192932Z
LAST-MODIFIED:20240820T192938Z
UID:10000186-1832263200-1832274000@willohill.com
SUMMARY:Young Adults Meeting Night
DESCRIPTION:Interested in joining? Use Remind Code: **2B3364H**
URL:https://willohill.com/event/young-adults-meeting-night/2028-01-23/
LOCATION:Various locations
END:VEVENT
BEGIN:VEVENT
DTSTART;TZID=America/New_York:20280130T180000
DTEND;TZID=America/New_York:20280130T210000
DTSTAMP:20260419T151256
CREATED:20240820T192932Z
LAST-MODIFIED:20240820T192938Z
UID:10000187-1832868000-1832878800@willohill.com
SUMMARY:Young Adults Meeting Night
DESCRIPTION:Interested in joining? Use Remind Code: **2B3364H**
URL:https://willohill.com/event/young-adults-meeting-night/2028-01-30/
LOCATION:Various locations
END:VEVENT
END:VCALENDAR