BEGIN:VCALENDAR
VERSION:2.0
PRODID:-//Willo-Hill Baptist Church - ECPv6.11.0.1//NONSGML v1.0//EN
CALSCALE:GREGORIAN
METHOD:PUBLISH
X-ORIGINAL-URL:https://willohill.com
X-WR-CALDESC:Events for Willo-Hill Baptist Church
REFRESH-INTERVAL;VALUE=DURATION:PT1H
X-Robots-Tag:noindex
X-PUBLISHED-TTL:PT1H
BEGIN:VTIMEZONE
TZID:America/New_York
BEGIN:DAYLIGHT
TZOFFSETFROM:-0500
TZOFFSETTO:-0400
TZNAME:EDT
DTSTART:20260308T070000
END:DAYLIGHT
BEGIN:STANDARD
TZOFFSETFROM:-0400
TZOFFSETTO:-0500
TZNAME:EST
DTSTART:20261101T060000
END:STANDARD
BEGIN:DAYLIGHT
TZOFFSETFROM:-0500
TZOFFSETTO:-0400
TZNAME:EDT
DTSTART:20270314T070000
END:DAYLIGHT
BEGIN:STANDARD
TZOFFSETFROM:-0400
TZOFFSETTO:-0500
TZNAME:EST
DTSTART:20271107T060000
END:STANDARD
END:VTIMEZONE
BEGIN:VEVENT
DTSTART;TZID=America/New_York:20260705T180000
DTEND;TZID=America/New_York:20260705T210000
DTSTAMP:20260419T235059
CREATED:20240820T192932Z
LAST-MODIFIED:20240820T192938Z
UID:10000105-1783274400-1783285200@willohill.com
SUMMARY:Young Adults Meeting Night
DESCRIPTION:Interested in joining? Use Remind Code: **2B3364H**
URL:https://willohill.com/event/young-adults-meeting-night/2026-07-05/
LOCATION:Various locations
END:VEVENT
BEGIN:VEVENT
DTSTART;TZID=America/New_York:20260712T180000
DTEND;TZID=America/New_York:20260712T210000
DTSTAMP:20260419T235059
CREATED:20240820T192932Z
LAST-MODIFIED:20240820T192938Z
UID:10000106-1783879200-1783890000@willohill.com
SUMMARY:Young Adults Meeting Night
DESCRIPTION:Interested in joining? Use Remind Code: **2B3364H**
URL:https://willohill.com/event/young-adults-meeting-night/2026-07-12/
LOCATION:Various locations
END:VEVENT
BEGIN:VEVENT
DTSTART;TZID=America/New_York:20260719T180000
DTEND;TZID=America/New_York:20260719T210000
DTSTAMP:20260419T235059
CREATED:20240820T192932Z
LAST-MODIFIED:20240820T192938Z
UID:10000107-1784484000-1784494800@willohill.com
SUMMARY:Young Adults Meeting Night
DESCRIPTION:Interested in joining? Use Remind Code: **2B3364H**
URL:https://willohill.com/event/young-adults-meeting-night/2026-07-19/
LOCATION:Various locations
END:VEVENT
BEGIN:VEVENT
DTSTART;TZID=America/New_York:20260726T180000
DTEND;TZID=America/New_York:20260726T210000
DTSTAMP:20260419T235059
CREATED:20240820T192932Z
LAST-MODIFIED:20240820T192938Z
UID:10000108-1785088800-1785099600@willohill.com
SUMMARY:Young Adults Meeting Night
DESCRIPTION:Interested in joining? Use Remind Code: **2B3364H**
URL:https://willohill.com/event/young-adults-meeting-night/2026-07-26/
LOCATION:Various locations
END:VEVENT
BEGIN:VEVENT
DTSTART;TZID=America/New_York:20260802T180000
DTEND;TZID=America/New_York:20260802T210000
DTSTAMP:20260419T235059
CREATED:20240820T192932Z
LAST-MODIFIED:20240820T192938Z
UID:10000109-1785693600-1785704400@willohill.com
SUMMARY:Young Adults Meeting Night
DESCRIPTION:Interested in joining? Use Remind Code: **2B3364H**
URL:https://willohill.com/event/young-adults-meeting-night/2026-08-02/
LOCATION:Various locations
END:VEVENT
BEGIN:VEVENT
DTSTART;TZID=America/New_York:20260809T180000
DTEND;TZID=America/New_York:20260809T210000
DTSTAMP:20260419T235059
CREATED:20240820T192932Z
LAST-MODIFIED:20240820T192938Z
UID:10000110-1786298400-1786309200@willohill.com
SUMMARY:Young Adults Meeting Night
DESCRIPTION:Interested in joining? Use Remind Code: **2B3364H**
URL:https://willohill.com/event/young-adults-meeting-night/2026-08-09/
LOCATION:Various locations
END:VEVENT
BEGIN:VEVENT
DTSTART;TZID=America/New_York:20260816T180000
DTEND;TZID=America/New_York:20260816T210000
DTSTAMP:20260419T235059
CREATED:20240820T192932Z
LAST-MODIFIED:20240820T192938Z
UID:10000111-1786903200-1786914000@willohill.com
SUMMARY:Young Adults Meeting Night
DESCRIPTION:Interested in joining? Use Remind Code: **2B3364H**
URL:https://willohill.com/event/young-adults-meeting-night/2026-08-16/
LOCATION:Various locations
END:VEVENT
BEGIN:VEVENT
DTSTART;TZID=America/New_York:20260823T180000
DTEND;TZID=America/New_York:20260823T210000
DTSTAMP:20260419T235059
CREATED:20240820T192932Z
LAST-MODIFIED:20240820T192938Z
UID:10000112-1787508000-1787518800@willohill.com
SUMMARY:Young Adults Meeting Night
DESCRIPTION:Interested in joining? Use Remind Code: **2B3364H**
URL:https://willohill.com/event/young-adults-meeting-night/2026-08-23/
LOCATION:Various locations
END:VEVENT
BEGIN:VEVENT
DTSTART;TZID=America/New_York:20260830T180000
DTEND;TZID=America/New_York:20260830T210000
DTSTAMP:20260419T235059
CREATED:20240820T192932Z
LAST-MODIFIED:20240820T192938Z
UID:10000113-1788112800-1788123600@willohill.com
SUMMARY:Young Adults Meeting Night
DESCRIPTION:Interested in joining? Use Remind Code: **2B3364H**
URL:https://willohill.com/event/young-adults-meeting-night/2026-08-30/
LOCATION:Various locations
END:VEVENT
BEGIN:VEVENT
DTSTART;TZID=America/New_York:20260906T180000
DTEND;TZID=America/New_York:20260906T210000
DTSTAMP:20260419T235059
CREATED:20240820T192932Z
LAST-MODIFIED:20240820T192938Z
UID:10000114-1788717600-1788728400@willohill.com
SUMMARY:Young Adults Meeting Night
DESCRIPTION:Interested in joining? Use Remind Code: **2B3364H**
URL:https://willohill.com/event/young-adults-meeting-night/2026-09-06/
LOCATION:Various locations
END:VEVENT
BEGIN:VEVENT
DTSTART;TZID=America/New_York:20260913T180000
DTEND;TZID=America/New_York:20260913T210000
DTSTAMP:20260419T235059
CREATED:20240820T192932Z
LAST-MODIFIED:20240820T192938Z
UID:10000115-1789322400-1789333200@willohill.com
SUMMARY:Young Adults Meeting Night
DESCRIPTION:Interested in joining? Use Remind Code: **2B3364H**
URL:https://willohill.com/event/young-adults-meeting-night/2026-09-13/
LOCATION:Various locations
END:VEVENT
BEGIN:VEVENT
DTSTART;TZID=America/New_York:20260920T180000
DTEND;TZID=America/New_York:20260920T210000
DTSTAMP:20260419T235059
CREATED:20240820T192932Z
LAST-MODIFIED:20240820T192938Z
UID:10000116-1789927200-1789938000@willohill.com
SUMMARY:Young Adults Meeting Night
DESCRIPTION:Interested in joining? Use Remind Code: **2B3364H**
URL:https://willohill.com/event/young-adults-meeting-night/2026-09-20/
LOCATION:Various locations
END:VEVENT
BEGIN:VEVENT
DTSTART;TZID=America/New_York:20260927T180000
DTEND;TZID=America/New_York:20260927T210000
DTSTAMP:20260419T235059
CREATED:20240820T192932Z
LAST-MODIFIED:20240820T192938Z
UID:10000117-1790532000-1790542800@willohill.com
SUMMARY:Young Adults Meeting Night
DESCRIPTION:Interested in joining? Use Remind Code: **2B3364H**
URL:https://willohill.com/event/young-adults-meeting-night/2026-09-27/
LOCATION:Various locations
END:VEVENT
BEGIN:VEVENT
DTSTART;TZID=America/New_York:20261004T180000
DTEND;TZID=America/New_York:20261004T210000
DTSTAMP:20260419T235059
CREATED:20240820T192932Z
LAST-MODIFIED:20240820T192938Z
UID:10000118-1791136800-1791147600@willohill.com
SUMMARY:Young Adults Meeting Night
DESCRIPTION:Interested in joining? Use Remind Code: **2B3364H**
URL:https://willohill.com/event/young-adults-meeting-night/2026-10-04/
LOCATION:Various locations
END:VEVENT
BEGIN:VEVENT
DTSTART;TZID=America/New_York:20261011T180000
DTEND;TZID=America/New_York:20261011T210000
DTSTAMP:20260419T235059
CREATED:20240820T192932Z
LAST-MODIFIED:20240820T192938Z
UID:10000119-1791741600-1791752400@willohill.com
SUMMARY:Young Adults Meeting Night
DESCRIPTION:Interested in joining? Use Remind Code: **2B3364H**
URL:https://willohill.com/event/young-adults-meeting-night/2026-10-11/
LOCATION:Various locations
END:VEVENT
BEGIN:VEVENT
DTSTART;TZID=America/New_York:20261018T180000
DTEND;TZID=America/New_York:20261018T210000
DTSTAMP:20260419T235059
CREATED:20240820T192932Z
LAST-MODIFIED:20240820T192938Z
UID:10000120-1792346400-1792357200@willohill.com
SUMMARY:Young Adults Meeting Night
DESCRIPTION:Interested in joining? Use Remind Code: **2B3364H**
URL:https://willohill.com/event/young-adults-meeting-night/2026-10-18/
LOCATION:Various locations
END:VEVENT
BEGIN:VEVENT
DTSTART;TZID=America/New_York:20261025T180000
DTEND;TZID=America/New_York:20261025T210000
DTSTAMP:20260419T235059
CREATED:20240820T192932Z
LAST-MODIFIED:20240820T192938Z
UID:10000121-1792951200-1792962000@willohill.com
SUMMARY:Young Adults Meeting Night
DESCRIPTION:Interested in joining? Use Remind Code: **2B3364H**
URL:https://willohill.com/event/young-adults-meeting-night/2026-10-25/
LOCATION:Various locations
END:VEVENT
BEGIN:VEVENT
DTSTART;TZID=America/New_York:20261101T180000
DTEND;TZID=America/New_York:20261101T210000
DTSTAMP:20260419T235059
CREATED:20240820T192932Z
LAST-MODIFIED:20240820T192938Z
UID:10000122-1793556000-1793566800@willohill.com
SUMMARY:Young Adults Meeting Night
DESCRIPTION:Interested in joining? Use Remind Code: **2B3364H**
URL:https://willohill.com/event/young-adults-meeting-night/2026-11-01/
LOCATION:Various locations
END:VEVENT
BEGIN:VEVENT
DTSTART;TZID=America/New_York:20261108T180000
DTEND;TZID=America/New_York:20261108T210000
DTSTAMP:20260419T235059
CREATED:20240820T192932Z
LAST-MODIFIED:20240820T192938Z
UID:10000123-1794160800-1794171600@willohill.com
SUMMARY:Young Adults Meeting Night
DESCRIPTION:Interested in joining? Use Remind Code: **2B3364H**
URL:https://willohill.com/event/young-adults-meeting-night/2026-11-08/
LOCATION:Various locations
END:VEVENT
BEGIN:VEVENT
DTSTART;TZID=America/New_York:20261115T180000
DTEND;TZID=America/New_York:20261115T210000
DTSTAMP:20260419T235059
CREATED:20240820T192932Z
LAST-MODIFIED:20240820T192938Z
UID:10000124-1794765600-1794776400@willohill.com
SUMMARY:Young Adults Meeting Night
DESCRIPTION:Interested in joining? Use Remind Code: **2B3364H**
URL:https://willohill.com/event/young-adults-meeting-night/2026-11-15/
LOCATION:Various locations
END:VEVENT
BEGIN:VEVENT
DTSTART;TZID=America/New_York:20261122T180000
DTEND;TZID=America/New_York:20261122T210000
DTSTAMP:20260419T235059
CREATED:20240820T192932Z
LAST-MODIFIED:20240820T192938Z
UID:10000125-1795370400-1795381200@willohill.com
SUMMARY:Young Adults Meeting Night
DESCRIPTION:Interested in joining? Use Remind Code: **2B3364H**
URL:https://willohill.com/event/young-adults-meeting-night/2026-11-22/
LOCATION:Various locations
END:VEVENT
BEGIN:VEVENT
DTSTART;TZID=America/New_York:20261129T180000
DTEND;TZID=America/New_York:20261129T210000
DTSTAMP:20260419T235059
CREATED:20240820T192932Z
LAST-MODIFIED:20240820T192938Z
UID:10000126-1795975200-1795986000@willohill.com
SUMMARY:Young Adults Meeting Night
DESCRIPTION:Interested in joining? Use Remind Code: **2B3364H**
URL:https://willohill.com/event/young-adults-meeting-night/2026-11-29/
LOCATION:Various locations
END:VEVENT
BEGIN:VEVENT
DTSTART;TZID=America/New_York:20261206T180000
DTEND;TZID=America/New_York:20261206T210000
DTSTAMP:20260419T235059
CREATED:20240820T192932Z
LAST-MODIFIED:20240820T192938Z
UID:10000127-1796580000-1796590800@willohill.com
SUMMARY:Young Adults Meeting Night
DESCRIPTION:Interested in joining? Use Remind Code: **2B3364H**
URL:https://willohill.com/event/young-adults-meeting-night/2026-12-06/
LOCATION:Various locations
END:VEVENT
BEGIN:VEVENT
DTSTART;TZID=America/New_York:20261213T180000
DTEND;TZID=America/New_York:20261213T210000
DTSTAMP:20260419T235059
CREATED:20240820T192932Z
LAST-MODIFIED:20240820T192938Z
UID:10000128-1797184800-1797195600@willohill.com
SUMMARY:Young Adults Meeting Night
DESCRIPTION:Interested in joining? Use Remind Code: **2B3364H**
URL:https://willohill.com/event/young-adults-meeting-night/2026-12-13/
LOCATION:Various locations
END:VEVENT
BEGIN:VEVENT
DTSTART;TZID=America/New_York:20261220T180000
DTEND;TZID=America/New_York:20261220T210000
DTSTAMP:20260419T235059
CREATED:20240820T192932Z
LAST-MODIFIED:20240820T192938Z
UID:10000129-1797789600-1797800400@willohill.com
SUMMARY:Young Adults Meeting Night
DESCRIPTION:Interested in joining? Use Remind Code: **2B3364H**
URL:https://willohill.com/event/young-adults-meeting-night/2026-12-20/
LOCATION:Various locations
END:VEVENT
BEGIN:VEVENT
DTSTART;TZID=America/New_York:20261227T180000
DTEND;TZID=America/New_York:20261227T210000
DTSTAMP:20260419T235059
CREATED:20240820T192932Z
LAST-MODIFIED:20240820T192938Z
UID:10000130-1798394400-1798405200@willohill.com
SUMMARY:Young Adults Meeting Night
DESCRIPTION:Interested in joining? Use Remind Code: **2B3364H**
URL:https://willohill.com/event/young-adults-meeting-night/2026-12-27/
LOCATION:Various locations
END:VEVENT
BEGIN:VEVENT
DTSTART;TZID=America/New_York:20270103T180000
DTEND;TZID=America/New_York:20270103T210000
DTSTAMP:20260419T235059
CREATED:20240820T192932Z
LAST-MODIFIED:20240820T192938Z
UID:10000131-1798999200-1799010000@willohill.com
SUMMARY:Young Adults Meeting Night
DESCRIPTION:Interested in joining? Use Remind Code: **2B3364H**
URL:https://willohill.com/event/young-adults-meeting-night/2027-01-03/
LOCATION:Various locations
END:VEVENT
BEGIN:VEVENT
DTSTART;TZID=America/New_York:20270110T180000
DTEND;TZID=America/New_York:20270110T210000
DTSTAMP:20260419T235059
CREATED:20240820T192932Z
LAST-MODIFIED:20240820T192938Z
UID:10000132-1799604000-1799614800@willohill.com
SUMMARY:Young Adults Meeting Night
DESCRIPTION:Interested in joining? Use Remind Code: **2B3364H**
URL:https://willohill.com/event/young-adults-meeting-night/2027-01-10/
LOCATION:Various locations
END:VEVENT
BEGIN:VEVENT
DTSTART;TZID=America/New_York:20270117T180000
DTEND;TZID=America/New_York:20270117T210000
DTSTAMP:20260419T235059
CREATED:20240820T192932Z
LAST-MODIFIED:20240820T192938Z
UID:10000133-1800208800-1800219600@willohill.com
SUMMARY:Young Adults Meeting Night
DESCRIPTION:Interested in joining? Use Remind Code: **2B3364H**
URL:https://willohill.com/event/young-adults-meeting-night/2027-01-17/
LOCATION:Various locations
END:VEVENT
BEGIN:VEVENT
DTSTART;TZID=America/New_York:20270124T180000
DTEND;TZID=America/New_York:20270124T210000
DTSTAMP:20260419T235059
CREATED:20240820T192932Z
LAST-MODIFIED:20240820T192938Z
UID:10000134-1800813600-1800824400@willohill.com
SUMMARY:Young Adults Meeting Night
DESCRIPTION:Interested in joining? Use Remind Code: **2B3364H**
URL:https://willohill.com/event/young-adults-meeting-night/2027-01-24/
LOCATION:Various locations
END:VEVENT
END:VCALENDAR