BEGIN:VCALENDAR
VERSION:2.0
PRODID:-//Willo-Hill Baptist Church - ECPv6.11.0.1//NONSGML v1.0//EN
CALSCALE:GREGORIAN
METHOD:PUBLISH
X-WR-CALNAME:Willo-Hill Baptist Church
X-ORIGINAL-URL:https://willohill.com
X-WR-CALDESC:Events for Willo-Hill Baptist Church
REFRESH-INTERVAL;VALUE=DURATION:PT1H
X-Robots-Tag:noindex
X-PUBLISHED-TTL:PT1H
BEGIN:VTIMEZONE
TZID:America/New_York
BEGIN:DAYLIGHT
TZOFFSETFROM:-0500
TZOFFSETTO:-0400
TZNAME:EDT
DTSTART:20270314T070000
END:DAYLIGHT
BEGIN:STANDARD
TZOFFSETFROM:-0400
TZOFFSETTO:-0500
TZNAME:EST
DTSTART:20271107T060000
END:STANDARD
END:VTIMEZONE
BEGIN:VEVENT
DTSTART;TZID=America/New_York:20270131T180000
DTEND;TZID=America/New_York:20270131T210000
DTSTAMP:20260420T110139
CREATED:20240820T192932Z
LAST-MODIFIED:20240820T192938Z
UID:10000135-1801418400-1801429200@willohill.com
SUMMARY:Young Adults Meeting Night
DESCRIPTION:Interested in joining? Use Remind Code: **2B3364H**
URL:https://willohill.com/event/young-adults-meeting-night/2027-01-31/
LOCATION:Various locations
END:VEVENT
BEGIN:VEVENT
DTSTART;TZID=America/New_York:20270207T180000
DTEND;TZID=America/New_York:20270207T210000
DTSTAMP:20260420T110139
CREATED:20240820T192932Z
LAST-MODIFIED:20240820T192938Z
UID:10000136-1802023200-1802034000@willohill.com
SUMMARY:Young Adults Meeting Night
DESCRIPTION:Interested in joining? Use Remind Code: **2B3364H**
URL:https://willohill.com/event/young-adults-meeting-night/2027-02-07/
LOCATION:Various locations
END:VEVENT
BEGIN:VEVENT
DTSTART;TZID=America/New_York:20270214T180000
DTEND;TZID=America/New_York:20270214T210000
DTSTAMP:20260420T110139
CREATED:20240820T192932Z
LAST-MODIFIED:20240820T192938Z
UID:10000137-1802628000-1802638800@willohill.com
SUMMARY:Young Adults Meeting Night
DESCRIPTION:Interested in joining? Use Remind Code: **2B3364H**
URL:https://willohill.com/event/young-adults-meeting-night/2027-02-14/
LOCATION:Various locations
END:VEVENT
BEGIN:VEVENT
DTSTART;TZID=America/New_York:20270221T180000
DTEND;TZID=America/New_York:20270221T210000
DTSTAMP:20260420T110139
CREATED:20240820T192932Z
LAST-MODIFIED:20240820T192938Z
UID:10000138-1803232800-1803243600@willohill.com
SUMMARY:Young Adults Meeting Night
DESCRIPTION:Interested in joining? Use Remind Code: **2B3364H**
URL:https://willohill.com/event/young-adults-meeting-night/2027-02-21/
LOCATION:Various locations
END:VEVENT
BEGIN:VEVENT
DTSTART;TZID=America/New_York:20270228T180000
DTEND;TZID=America/New_York:20270228T210000
DTSTAMP:20260420T110139
CREATED:20240820T192932Z
LAST-MODIFIED:20240820T192938Z
UID:10000139-1803837600-1803848400@willohill.com
SUMMARY:Young Adults Meeting Night
DESCRIPTION:Interested in joining? Use Remind Code: **2B3364H**
URL:https://willohill.com/event/young-adults-meeting-night/2027-02-28/
LOCATION:Various locations
END:VEVENT
BEGIN:VEVENT
DTSTART;TZID=America/New_York:20270307T180000
DTEND;TZID=America/New_York:20270307T210000
DTSTAMP:20260420T110139
CREATED:20240820T192932Z
LAST-MODIFIED:20240820T192938Z
UID:10000140-1804442400-1804453200@willohill.com
SUMMARY:Young Adults Meeting Night
DESCRIPTION:Interested in joining? Use Remind Code: **2B3364H**
URL:https://willohill.com/event/young-adults-meeting-night/2027-03-07/
LOCATION:Various locations
END:VEVENT
BEGIN:VEVENT
DTSTART;TZID=America/New_York:20270314T180000
DTEND;TZID=America/New_York:20270314T210000
DTSTAMP:20260420T110139
CREATED:20240820T192932Z
LAST-MODIFIED:20240820T192938Z
UID:10000141-1805047200-1805058000@willohill.com
SUMMARY:Young Adults Meeting Night
DESCRIPTION:Interested in joining? Use Remind Code: **2B3364H**
URL:https://willohill.com/event/young-adults-meeting-night/2027-03-14/
LOCATION:Various locations
END:VEVENT
BEGIN:VEVENT
DTSTART;TZID=America/New_York:20270321T180000
DTEND;TZID=America/New_York:20270321T210000
DTSTAMP:20260420T110139
CREATED:20240820T192932Z
LAST-MODIFIED:20240820T192938Z
UID:10000142-1805652000-1805662800@willohill.com
SUMMARY:Young Adults Meeting Night
DESCRIPTION:Interested in joining? Use Remind Code: **2B3364H**
URL:https://willohill.com/event/young-adults-meeting-night/2027-03-21/
LOCATION:Various locations
END:VEVENT
BEGIN:VEVENT
DTSTART;TZID=America/New_York:20270328T180000
DTEND;TZID=America/New_York:20270328T210000
DTSTAMP:20260420T110139
CREATED:20240820T192932Z
LAST-MODIFIED:20240820T192938Z
UID:10000143-1806256800-1806267600@willohill.com
SUMMARY:Young Adults Meeting Night
DESCRIPTION:Interested in joining? Use Remind Code: **2B3364H**
URL:https://willohill.com/event/young-adults-meeting-night/2027-03-28/
LOCATION:Various locations
END:VEVENT
BEGIN:VEVENT
DTSTART;TZID=America/New_York:20270404T180000
DTEND;TZID=America/New_York:20270404T210000
DTSTAMP:20260420T110139
CREATED:20240820T192932Z
LAST-MODIFIED:20240820T192938Z
UID:10000144-1806861600-1806872400@willohill.com
SUMMARY:Young Adults Meeting Night
DESCRIPTION:Interested in joining? Use Remind Code: **2B3364H**
URL:https://willohill.com/event/young-adults-meeting-night/2027-04-04/
LOCATION:Various locations
END:VEVENT
BEGIN:VEVENT
DTSTART;TZID=America/New_York:20270411T180000
DTEND;TZID=America/New_York:20270411T210000
DTSTAMP:20260420T110139
CREATED:20240820T192932Z
LAST-MODIFIED:20240820T192938Z
UID:10000145-1807466400-1807477200@willohill.com
SUMMARY:Young Adults Meeting Night
DESCRIPTION:Interested in joining? Use Remind Code: **2B3364H**
URL:https://willohill.com/event/young-adults-meeting-night/2027-04-11/
LOCATION:Various locations
END:VEVENT
BEGIN:VEVENT
DTSTART;TZID=America/New_York:20270418T180000
DTEND;TZID=America/New_York:20270418T210000
DTSTAMP:20260420T110139
CREATED:20240820T192932Z
LAST-MODIFIED:20240820T192938Z
UID:10000146-1808071200-1808082000@willohill.com
SUMMARY:Young Adults Meeting Night
DESCRIPTION:Interested in joining? Use Remind Code: **2B3364H**
URL:https://willohill.com/event/young-adults-meeting-night/2027-04-18/
LOCATION:Various locations
END:VEVENT
BEGIN:VEVENT
DTSTART;TZID=America/New_York:20270425T180000
DTEND;TZID=America/New_York:20270425T210000
DTSTAMP:20260420T110139
CREATED:20240820T192932Z
LAST-MODIFIED:20240820T192938Z
UID:10000147-1808676000-1808686800@willohill.com
SUMMARY:Young Adults Meeting Night
DESCRIPTION:Interested in joining? Use Remind Code: **2B3364H**
URL:https://willohill.com/event/young-adults-meeting-night/2027-04-25/
LOCATION:Various locations
END:VEVENT
BEGIN:VEVENT
DTSTART;TZID=America/New_York:20270502T180000
DTEND;TZID=America/New_York:20270502T210000
DTSTAMP:20260420T110139
CREATED:20240820T192932Z
LAST-MODIFIED:20240820T192938Z
UID:10000148-1809280800-1809291600@willohill.com
SUMMARY:Young Adults Meeting Night
DESCRIPTION:Interested in joining? Use Remind Code: **2B3364H**
URL:https://willohill.com/event/young-adults-meeting-night/2027-05-02/
LOCATION:Various locations
END:VEVENT
BEGIN:VEVENT
DTSTART;TZID=America/New_York:20270509T180000
DTEND;TZID=America/New_York:20270509T210000
DTSTAMP:20260420T110139
CREATED:20240820T192932Z
LAST-MODIFIED:20240820T192938Z
UID:10000149-1809885600-1809896400@willohill.com
SUMMARY:Young Adults Meeting Night
DESCRIPTION:Interested in joining? Use Remind Code: **2B3364H**
URL:https://willohill.com/event/young-adults-meeting-night/2027-05-09/
LOCATION:Various locations
END:VEVENT
BEGIN:VEVENT
DTSTART;TZID=America/New_York:20270516T180000
DTEND;TZID=America/New_York:20270516T210000
DTSTAMP:20260420T110139
CREATED:20240820T192932Z
LAST-MODIFIED:20240820T192938Z
UID:10000150-1810490400-1810501200@willohill.com
SUMMARY:Young Adults Meeting Night
DESCRIPTION:Interested in joining? Use Remind Code: **2B3364H**
URL:https://willohill.com/event/young-adults-meeting-night/2027-05-16/
LOCATION:Various locations
END:VEVENT
BEGIN:VEVENT
DTSTART;TZID=America/New_York:20270523T180000
DTEND;TZID=America/New_York:20270523T210000
DTSTAMP:20260420T110139
CREATED:20240820T192932Z
LAST-MODIFIED:20240820T192938Z
UID:10000151-1811095200-1811106000@willohill.com
SUMMARY:Young Adults Meeting Night
DESCRIPTION:Interested in joining? Use Remind Code: **2B3364H**
URL:https://willohill.com/event/young-adults-meeting-night/2027-05-23/
LOCATION:Various locations
END:VEVENT
BEGIN:VEVENT
DTSTART;TZID=America/New_York:20270530T180000
DTEND;TZID=America/New_York:20270530T210000
DTSTAMP:20260420T110139
CREATED:20240820T192932Z
LAST-MODIFIED:20240820T192938Z
UID:10000152-1811700000-1811710800@willohill.com
SUMMARY:Young Adults Meeting Night
DESCRIPTION:Interested in joining? Use Remind Code: **2B3364H**
URL:https://willohill.com/event/young-adults-meeting-night/2027-05-30/
LOCATION:Various locations
END:VEVENT
BEGIN:VEVENT
DTSTART;TZID=America/New_York:20270606T180000
DTEND;TZID=America/New_York:20270606T210000
DTSTAMP:20260420T110139
CREATED:20240820T192932Z
LAST-MODIFIED:20240820T192938Z
UID:10000153-1812304800-1812315600@willohill.com
SUMMARY:Young Adults Meeting Night
DESCRIPTION:Interested in joining? Use Remind Code: **2B3364H**
URL:https://willohill.com/event/young-adults-meeting-night/2027-06-06/
LOCATION:Various locations
END:VEVENT
BEGIN:VEVENT
DTSTART;TZID=America/New_York:20270613T180000
DTEND;TZID=America/New_York:20270613T210000
DTSTAMP:20260420T110139
CREATED:20240820T192932Z
LAST-MODIFIED:20240820T192938Z
UID:10000154-1812909600-1812920400@willohill.com
SUMMARY:Young Adults Meeting Night
DESCRIPTION:Interested in joining? Use Remind Code: **2B3364H**
URL:https://willohill.com/event/young-adults-meeting-night/2027-06-13/
LOCATION:Various locations
END:VEVENT
BEGIN:VEVENT
DTSTART;TZID=America/New_York:20270620T180000
DTEND;TZID=America/New_York:20270620T210000
DTSTAMP:20260420T110139
CREATED:20240820T192932Z
LAST-MODIFIED:20240820T192938Z
UID:10000155-1813514400-1813525200@willohill.com
SUMMARY:Young Adults Meeting Night
DESCRIPTION:Interested in joining? Use Remind Code: **2B3364H**
URL:https://willohill.com/event/young-adults-meeting-night/2027-06-20/
LOCATION:Various locations
END:VEVENT
BEGIN:VEVENT
DTSTART;TZID=America/New_York:20270627T180000
DTEND;TZID=America/New_York:20270627T210000
DTSTAMP:20260420T110139
CREATED:20240820T192932Z
LAST-MODIFIED:20240820T192938Z
UID:10000156-1814119200-1814130000@willohill.com
SUMMARY:Young Adults Meeting Night
DESCRIPTION:Interested in joining? Use Remind Code: **2B3364H**
URL:https://willohill.com/event/young-adults-meeting-night/2027-06-27/
LOCATION:Various locations
END:VEVENT
BEGIN:VEVENT
DTSTART;TZID=America/New_York:20270704T180000
DTEND;TZID=America/New_York:20270704T210000
DTSTAMP:20260420T110139
CREATED:20240820T192932Z
LAST-MODIFIED:20240820T192938Z
UID:10000157-1814724000-1814734800@willohill.com
SUMMARY:Young Adults Meeting Night
DESCRIPTION:Interested in joining? Use Remind Code: **2B3364H**
URL:https://willohill.com/event/young-adults-meeting-night/2027-07-04/
LOCATION:Various locations
END:VEVENT
BEGIN:VEVENT
DTSTART;TZID=America/New_York:20270711T180000
DTEND;TZID=America/New_York:20270711T210000
DTSTAMP:20260420T110139
CREATED:20240820T192932Z
LAST-MODIFIED:20240820T192938Z
UID:10000158-1815328800-1815339600@willohill.com
SUMMARY:Young Adults Meeting Night
DESCRIPTION:Interested in joining? Use Remind Code: **2B3364H**
URL:https://willohill.com/event/young-adults-meeting-night/2027-07-11/
LOCATION:Various locations
END:VEVENT
BEGIN:VEVENT
DTSTART;TZID=America/New_York:20270718T180000
DTEND;TZID=America/New_York:20270718T210000
DTSTAMP:20260420T110139
CREATED:20240820T192932Z
LAST-MODIFIED:20240820T192938Z
UID:10000159-1815933600-1815944400@willohill.com
SUMMARY:Young Adults Meeting Night
DESCRIPTION:Interested in joining? Use Remind Code: **2B3364H**
URL:https://willohill.com/event/young-adults-meeting-night/2027-07-18/
LOCATION:Various locations
END:VEVENT
BEGIN:VEVENT
DTSTART;TZID=America/New_York:20270725T180000
DTEND;TZID=America/New_York:20270725T210000
DTSTAMP:20260420T110139
CREATED:20240820T192932Z
LAST-MODIFIED:20240820T192938Z
UID:10000160-1816538400-1816549200@willohill.com
SUMMARY:Young Adults Meeting Night
DESCRIPTION:Interested in joining? Use Remind Code: **2B3364H**
URL:https://willohill.com/event/young-adults-meeting-night/2027-07-25/
LOCATION:Various locations
END:VEVENT
BEGIN:VEVENT
DTSTART;TZID=America/New_York:20270801T180000
DTEND;TZID=America/New_York:20270801T210000
DTSTAMP:20260420T110139
CREATED:20240820T192932Z
LAST-MODIFIED:20240820T192938Z
UID:10000161-1817143200-1817154000@willohill.com
SUMMARY:Young Adults Meeting Night
DESCRIPTION:Interested in joining? Use Remind Code: **2B3364H**
URL:https://willohill.com/event/young-adults-meeting-night/2027-08-01/
LOCATION:Various locations
END:VEVENT
BEGIN:VEVENT
DTSTART;TZID=America/New_York:20270808T180000
DTEND;TZID=America/New_York:20270808T210000
DTSTAMP:20260420T110139
CREATED:20240820T192932Z
LAST-MODIFIED:20240820T192938Z
UID:10000162-1817748000-1817758800@willohill.com
SUMMARY:Young Adults Meeting Night
DESCRIPTION:Interested in joining? Use Remind Code: **2B3364H**
URL:https://willohill.com/event/young-adults-meeting-night/2027-08-08/
LOCATION:Various locations
END:VEVENT
BEGIN:VEVENT
DTSTART;TZID=America/New_York:20270815T180000
DTEND;TZID=America/New_York:20270815T210000
DTSTAMP:20260420T110139
CREATED:20240820T192932Z
LAST-MODIFIED:20240820T192938Z
UID:10000163-1818352800-1818363600@willohill.com
SUMMARY:Young Adults Meeting Night
DESCRIPTION:Interested in joining? Use Remind Code: **2B3364H**
URL:https://willohill.com/event/young-adults-meeting-night/2027-08-15/
LOCATION:Various locations
END:VEVENT
BEGIN:VEVENT
DTSTART;TZID=America/New_York:20270822T180000
DTEND;TZID=America/New_York:20270822T210000
DTSTAMP:20260420T110139
CREATED:20240820T192932Z
LAST-MODIFIED:20240820T192938Z
UID:10000164-1818957600-1818968400@willohill.com
SUMMARY:Young Adults Meeting Night
DESCRIPTION:Interested in joining? Use Remind Code: **2B3364H**
URL:https://willohill.com/event/young-adults-meeting-night/2027-08-22/
LOCATION:Various locations
END:VEVENT
END:VCALENDAR