BEGIN:VCALENDAR
VERSION:2.0
PRODID:-//Willo-Hill Baptist Church - ECPv6.11.0.1//NONSGML v1.0//EN
CALSCALE:GREGORIAN
METHOD:PUBLISH
X-WR-CALNAME:Willo-Hill Baptist Church
X-ORIGINAL-URL:https://willohill.com
X-WR-CALDESC:Events for Willo-Hill Baptist Church
REFRESH-INTERVAL;VALUE=DURATION:PT1H
X-Robots-Tag:noindex
X-PUBLISHED-TTL:PT1H
BEGIN:VTIMEZONE
TZID:America/New_York
BEGIN:DAYLIGHT
TZOFFSETFROM:-0500
TZOFFSETTO:-0400
TZNAME:EDT
DTSTART:20270314T070000
END:DAYLIGHT
BEGIN:STANDARD
TZOFFSETFROM:-0400
TZOFFSETTO:-0500
TZNAME:EST
DTSTART:20271107T060000
END:STANDARD
BEGIN:DAYLIGHT
TZOFFSETFROM:-0500
TZOFFSETTO:-0400
TZNAME:EDT
DTSTART:20280312T070000
END:DAYLIGHT
BEGIN:STANDARD
TZOFFSETFROM:-0400
TZOFFSETTO:-0500
TZNAME:EST
DTSTART:20281105T060000
END:STANDARD
END:VTIMEZONE
BEGIN:VEVENT
DTSTART;TZID=America/New_York:20270620T180000
DTEND;TZID=America/New_York:20270620T210000
DTSTAMP:20260422T082507
CREATED:20240820T192932Z
LAST-MODIFIED:20240820T192938Z
UID:10000155-1813514400-1813525200@willohill.com
SUMMARY:Young Adults Meeting Night
DESCRIPTION:Interested in joining? Use Remind Code: **2B3364H**
URL:https://willohill.com/event/young-adults-meeting-night/2027-06-20/
LOCATION:Various locations
END:VEVENT
BEGIN:VEVENT
DTSTART;TZID=America/New_York:20270627T180000
DTEND;TZID=America/New_York:20270627T210000
DTSTAMP:20260422T082507
CREATED:20240820T192932Z
LAST-MODIFIED:20240820T192938Z
UID:10000156-1814119200-1814130000@willohill.com
SUMMARY:Young Adults Meeting Night
DESCRIPTION:Interested in joining? Use Remind Code: **2B3364H**
URL:https://willohill.com/event/young-adults-meeting-night/2027-06-27/
LOCATION:Various locations
END:VEVENT
BEGIN:VEVENT
DTSTART;TZID=America/New_York:20270704T180000
DTEND;TZID=America/New_York:20270704T210000
DTSTAMP:20260422T082507
CREATED:20240820T192932Z
LAST-MODIFIED:20240820T192938Z
UID:10000157-1814724000-1814734800@willohill.com
SUMMARY:Young Adults Meeting Night
DESCRIPTION:Interested in joining? Use Remind Code: **2B3364H**
URL:https://willohill.com/event/young-adults-meeting-night/2027-07-04/
LOCATION:Various locations
END:VEVENT
BEGIN:VEVENT
DTSTART;TZID=America/New_York:20270711T180000
DTEND;TZID=America/New_York:20270711T210000
DTSTAMP:20260422T082507
CREATED:20240820T192932Z
LAST-MODIFIED:20240820T192938Z
UID:10000158-1815328800-1815339600@willohill.com
SUMMARY:Young Adults Meeting Night
DESCRIPTION:Interested in joining? Use Remind Code: **2B3364H**
URL:https://willohill.com/event/young-adults-meeting-night/2027-07-11/
LOCATION:Various locations
END:VEVENT
BEGIN:VEVENT
DTSTART;TZID=America/New_York:20270718T180000
DTEND;TZID=America/New_York:20270718T210000
DTSTAMP:20260422T082507
CREATED:20240820T192932Z
LAST-MODIFIED:20240820T192938Z
UID:10000159-1815933600-1815944400@willohill.com
SUMMARY:Young Adults Meeting Night
DESCRIPTION:Interested in joining? Use Remind Code: **2B3364H**
URL:https://willohill.com/event/young-adults-meeting-night/2027-07-18/
LOCATION:Various locations
END:VEVENT
BEGIN:VEVENT
DTSTART;TZID=America/New_York:20270725T180000
DTEND;TZID=America/New_York:20270725T210000
DTSTAMP:20260422T082507
CREATED:20240820T192932Z
LAST-MODIFIED:20240820T192938Z
UID:10000160-1816538400-1816549200@willohill.com
SUMMARY:Young Adults Meeting Night
DESCRIPTION:Interested in joining? Use Remind Code: **2B3364H**
URL:https://willohill.com/event/young-adults-meeting-night/2027-07-25/
LOCATION:Various locations
END:VEVENT
BEGIN:VEVENT
DTSTART;TZID=America/New_York:20270801T180000
DTEND;TZID=America/New_York:20270801T210000
DTSTAMP:20260422T082507
CREATED:20240820T192932Z
LAST-MODIFIED:20240820T192938Z
UID:10000161-1817143200-1817154000@willohill.com
SUMMARY:Young Adults Meeting Night
DESCRIPTION:Interested in joining? Use Remind Code: **2B3364H**
URL:https://willohill.com/event/young-adults-meeting-night/2027-08-01/
LOCATION:Various locations
END:VEVENT
BEGIN:VEVENT
DTSTART;TZID=America/New_York:20270808T180000
DTEND;TZID=America/New_York:20270808T210000
DTSTAMP:20260422T082507
CREATED:20240820T192932Z
LAST-MODIFIED:20240820T192938Z
UID:10000162-1817748000-1817758800@willohill.com
SUMMARY:Young Adults Meeting Night
DESCRIPTION:Interested in joining? Use Remind Code: **2B3364H**
URL:https://willohill.com/event/young-adults-meeting-night/2027-08-08/
LOCATION:Various locations
END:VEVENT
BEGIN:VEVENT
DTSTART;TZID=America/New_York:20270815T180000
DTEND;TZID=America/New_York:20270815T210000
DTSTAMP:20260422T082507
CREATED:20240820T192932Z
LAST-MODIFIED:20240820T192938Z
UID:10000163-1818352800-1818363600@willohill.com
SUMMARY:Young Adults Meeting Night
DESCRIPTION:Interested in joining? Use Remind Code: **2B3364H**
URL:https://willohill.com/event/young-adults-meeting-night/2027-08-15/
LOCATION:Various locations
END:VEVENT
BEGIN:VEVENT
DTSTART;TZID=America/New_York:20270822T180000
DTEND;TZID=America/New_York:20270822T210000
DTSTAMP:20260422T082507
CREATED:20240820T192932Z
LAST-MODIFIED:20240820T192938Z
UID:10000164-1818957600-1818968400@willohill.com
SUMMARY:Young Adults Meeting Night
DESCRIPTION:Interested in joining? Use Remind Code: **2B3364H**
URL:https://willohill.com/event/young-adults-meeting-night/2027-08-22/
LOCATION:Various locations
END:VEVENT
BEGIN:VEVENT
DTSTART;TZID=America/New_York:20270829T180000
DTEND;TZID=America/New_York:20270829T210000
DTSTAMP:20260422T082507
CREATED:20240820T192932Z
LAST-MODIFIED:20240820T192938Z
UID:10000165-1819562400-1819573200@willohill.com
SUMMARY:Young Adults Meeting Night
DESCRIPTION:Interested in joining? Use Remind Code: **2B3364H**
URL:https://willohill.com/event/young-adults-meeting-night/2027-08-29/
LOCATION:Various locations
END:VEVENT
BEGIN:VEVENT
DTSTART;TZID=America/New_York:20270905T180000
DTEND;TZID=America/New_York:20270905T210000
DTSTAMP:20260422T082507
CREATED:20240820T192932Z
LAST-MODIFIED:20240820T192938Z
UID:10000166-1820167200-1820178000@willohill.com
SUMMARY:Young Adults Meeting Night
DESCRIPTION:Interested in joining? Use Remind Code: **2B3364H**
URL:https://willohill.com/event/young-adults-meeting-night/2027-09-05/
LOCATION:Various locations
END:VEVENT
BEGIN:VEVENT
DTSTART;TZID=America/New_York:20270912T180000
DTEND;TZID=America/New_York:20270912T210000
DTSTAMP:20260422T082507
CREATED:20240820T192932Z
LAST-MODIFIED:20240820T192938Z
UID:10000167-1820772000-1820782800@willohill.com
SUMMARY:Young Adults Meeting Night
DESCRIPTION:Interested in joining? Use Remind Code: **2B3364H**
URL:https://willohill.com/event/young-adults-meeting-night/2027-09-12/
LOCATION:Various locations
END:VEVENT
BEGIN:VEVENT
DTSTART;TZID=America/New_York:20270919T180000
DTEND;TZID=America/New_York:20270919T210000
DTSTAMP:20260422T082507
CREATED:20240820T192932Z
LAST-MODIFIED:20240820T192938Z
UID:10000168-1821376800-1821387600@willohill.com
SUMMARY:Young Adults Meeting Night
DESCRIPTION:Interested in joining? Use Remind Code: **2B3364H**
URL:https://willohill.com/event/young-adults-meeting-night/2027-09-19/
LOCATION:Various locations
END:VEVENT
BEGIN:VEVENT
DTSTART;TZID=America/New_York:20270926T180000
DTEND;TZID=America/New_York:20270926T210000
DTSTAMP:20260422T082507
CREATED:20240820T192932Z
LAST-MODIFIED:20240820T192938Z
UID:10000169-1821981600-1821992400@willohill.com
SUMMARY:Young Adults Meeting Night
DESCRIPTION:Interested in joining? Use Remind Code: **2B3364H**
URL:https://willohill.com/event/young-adults-meeting-night/2027-09-26/
LOCATION:Various locations
END:VEVENT
BEGIN:VEVENT
DTSTART;TZID=America/New_York:20271003T180000
DTEND;TZID=America/New_York:20271003T210000
DTSTAMP:20260422T082507
CREATED:20240820T192932Z
LAST-MODIFIED:20240820T192938Z
UID:10000170-1822586400-1822597200@willohill.com
SUMMARY:Young Adults Meeting Night
DESCRIPTION:Interested in joining? Use Remind Code: **2B3364H**
URL:https://willohill.com/event/young-adults-meeting-night/2027-10-03/
LOCATION:Various locations
END:VEVENT
BEGIN:VEVENT
DTSTART;TZID=America/New_York:20271010T180000
DTEND;TZID=America/New_York:20271010T210000
DTSTAMP:20260422T082507
CREATED:20240820T192932Z
LAST-MODIFIED:20240820T192938Z
UID:10000171-1823191200-1823202000@willohill.com
SUMMARY:Young Adults Meeting Night
DESCRIPTION:Interested in joining? Use Remind Code: **2B3364H**
URL:https://willohill.com/event/young-adults-meeting-night/2027-10-10/
LOCATION:Various locations
END:VEVENT
BEGIN:VEVENT
DTSTART;TZID=America/New_York:20271017T180000
DTEND;TZID=America/New_York:20271017T210000
DTSTAMP:20260422T082507
CREATED:20240820T192932Z
LAST-MODIFIED:20240820T192938Z
UID:10000172-1823796000-1823806800@willohill.com
SUMMARY:Young Adults Meeting Night
DESCRIPTION:Interested in joining? Use Remind Code: **2B3364H**
URL:https://willohill.com/event/young-adults-meeting-night/2027-10-17/
LOCATION:Various locations
END:VEVENT
BEGIN:VEVENT
DTSTART;TZID=America/New_York:20271024T180000
DTEND;TZID=America/New_York:20271024T210000
DTSTAMP:20260422T082507
CREATED:20240820T192932Z
LAST-MODIFIED:20240820T192938Z
UID:10000173-1824400800-1824411600@willohill.com
SUMMARY:Young Adults Meeting Night
DESCRIPTION:Interested in joining? Use Remind Code: **2B3364H**
URL:https://willohill.com/event/young-adults-meeting-night/2027-10-24/
LOCATION:Various locations
END:VEVENT
BEGIN:VEVENT
DTSTART;TZID=America/New_York:20271031T180000
DTEND;TZID=America/New_York:20271031T210000
DTSTAMP:20260422T082507
CREATED:20240820T192932Z
LAST-MODIFIED:20240820T192938Z
UID:10000174-1825005600-1825016400@willohill.com
SUMMARY:Young Adults Meeting Night
DESCRIPTION:Interested in joining? Use Remind Code: **2B3364H**
URL:https://willohill.com/event/young-adults-meeting-night/2027-10-31/
LOCATION:Various locations
END:VEVENT
BEGIN:VEVENT
DTSTART;TZID=America/New_York:20271107T180000
DTEND;TZID=America/New_York:20271107T210000
DTSTAMP:20260422T082507
CREATED:20240820T192932Z
LAST-MODIFIED:20240820T192938Z
UID:10000175-1825610400-1825621200@willohill.com
SUMMARY:Young Adults Meeting Night
DESCRIPTION:Interested in joining? Use Remind Code: **2B3364H**
URL:https://willohill.com/event/young-adults-meeting-night/2027-11-07/
LOCATION:Various locations
END:VEVENT
BEGIN:VEVENT
DTSTART;TZID=America/New_York:20271114T180000
DTEND;TZID=America/New_York:20271114T210000
DTSTAMP:20260422T082507
CREATED:20240820T192932Z
LAST-MODIFIED:20240820T192938Z
UID:10000176-1826215200-1826226000@willohill.com
SUMMARY:Young Adults Meeting Night
DESCRIPTION:Interested in joining? Use Remind Code: **2B3364H**
URL:https://willohill.com/event/young-adults-meeting-night/2027-11-14/
LOCATION:Various locations
END:VEVENT
BEGIN:VEVENT
DTSTART;TZID=America/New_York:20271121T180000
DTEND;TZID=America/New_York:20271121T210000
DTSTAMP:20260422T082507
CREATED:20240820T192932Z
LAST-MODIFIED:20240820T192938Z
UID:10000177-1826820000-1826830800@willohill.com
SUMMARY:Young Adults Meeting Night
DESCRIPTION:Interested in joining? Use Remind Code: **2B3364H**
URL:https://willohill.com/event/young-adults-meeting-night/2027-11-21/
LOCATION:Various locations
END:VEVENT
BEGIN:VEVENT
DTSTART;TZID=America/New_York:20271128T180000
DTEND;TZID=America/New_York:20271128T210000
DTSTAMP:20260422T082507
CREATED:20240820T192932Z
LAST-MODIFIED:20240820T192938Z
UID:10000178-1827424800-1827435600@willohill.com
SUMMARY:Young Adults Meeting Night
DESCRIPTION:Interested in joining? Use Remind Code: **2B3364H**
URL:https://willohill.com/event/young-adults-meeting-night/2027-11-28/
LOCATION:Various locations
END:VEVENT
BEGIN:VEVENT
DTSTART;TZID=America/New_York:20271205T180000
DTEND;TZID=America/New_York:20271205T210000
DTSTAMP:20260422T082507
CREATED:20240820T192932Z
LAST-MODIFIED:20240820T192938Z
UID:10000179-1828029600-1828040400@willohill.com
SUMMARY:Young Adults Meeting Night
DESCRIPTION:Interested in joining? Use Remind Code: **2B3364H**
URL:https://willohill.com/event/young-adults-meeting-night/2027-12-05/
LOCATION:Various locations
END:VEVENT
BEGIN:VEVENT
DTSTART;TZID=America/New_York:20271212T180000
DTEND;TZID=America/New_York:20271212T210000
DTSTAMP:20260422T082507
CREATED:20240820T192932Z
LAST-MODIFIED:20240820T192938Z
UID:10000180-1828634400-1828645200@willohill.com
SUMMARY:Young Adults Meeting Night
DESCRIPTION:Interested in joining? Use Remind Code: **2B3364H**
URL:https://willohill.com/event/young-adults-meeting-night/2027-12-12/
LOCATION:Various locations
END:VEVENT
BEGIN:VEVENT
DTSTART;TZID=America/New_York:20271219T180000
DTEND;TZID=America/New_York:20271219T210000
DTSTAMP:20260422T082507
CREATED:20240820T192932Z
LAST-MODIFIED:20240820T192938Z
UID:10000181-1829239200-1829250000@willohill.com
SUMMARY:Young Adults Meeting Night
DESCRIPTION:Interested in joining? Use Remind Code: **2B3364H**
URL:https://willohill.com/event/young-adults-meeting-night/2027-12-19/
LOCATION:Various locations
END:VEVENT
BEGIN:VEVENT
DTSTART;TZID=America/New_York:20271226T180000
DTEND;TZID=America/New_York:20271226T210000
DTSTAMP:20260422T082507
CREATED:20240820T192932Z
LAST-MODIFIED:20240820T192938Z
UID:10000182-1829844000-1829854800@willohill.com
SUMMARY:Young Adults Meeting Night
DESCRIPTION:Interested in joining? Use Remind Code: **2B3364H**
URL:https://willohill.com/event/young-adults-meeting-night/2027-12-26/
LOCATION:Various locations
END:VEVENT
BEGIN:VEVENT
DTSTART;TZID=America/New_York:20280102T180000
DTEND;TZID=America/New_York:20280102T210000
DTSTAMP:20260422T082507
CREATED:20240820T192932Z
LAST-MODIFIED:20240820T192938Z
UID:10000183-1830448800-1830459600@willohill.com
SUMMARY:Young Adults Meeting Night
DESCRIPTION:Interested in joining? Use Remind Code: **2B3364H**
URL:https://willohill.com/event/young-adults-meeting-night/2028-01-02/
LOCATION:Various locations
END:VEVENT
BEGIN:VEVENT
DTSTART;TZID=America/New_York:20280109T180000
DTEND;TZID=America/New_York:20280109T210000
DTSTAMP:20260422T082507
CREATED:20240820T192932Z
LAST-MODIFIED:20240820T192938Z
UID:10000184-1831053600-1831064400@willohill.com
SUMMARY:Young Adults Meeting Night
DESCRIPTION:Interested in joining? Use Remind Code: **2B3364H**
URL:https://willohill.com/event/young-adults-meeting-night/2028-01-09/
LOCATION:Various locations
END:VEVENT
END:VCALENDAR